{"text_format":"1","workbook":"xlsx","n_sheets":3,"sheets":["Liste","Heim","Gast"],"not_rendered":{"charts":0,"images":1,"macros":1,"external_links":0,"defined_names":0,"comments":0,"pivot_tables":0},"unopened":[],"bounds":{"document_bytes":16777216,"sheet_cells":100000,"rows_first":2000,"rows_last":500,"rows_between":2000,"halvings":0,"cell_chars":16384,"cell_head_chars":4096},"cells_cut":0,"cells_raw":0,"read":"whole","date_system":"1900"}

{"sheet":"Liste","index":0,"n_rows":46,"n_cols":9,"rows_kept":46,"cut":false,"hidden":false,"merged":[[45,0,45,7],[17,0,17,1],[29,0,29,1],[33,0,33,7],[12,5,12,6],[12,2,12,3],[15,2,15,8],[27,2,27,8],[41,0,41,1],[41,3,41,8],[39,3,39,8],[39,0,39,1],[11,0,11,8],[1,2,1,8],[3,2,3,8],[5,2,5,8],[6,2,6,8],[9,0,9,8]]}
[]
[null,null,"Markgräfler Sportschützen"]
[]
[null,null,"Kreis 8 im Südbadischen Sportschützenverband e.V."]
[]
[null,null,"Rundenwettkampfleiter Timo Weber · Werner von Siemens Str. 16 · 79395 Neuenburg am Rhein"]
[null,null,"Tel.: 07631 9357690 · E-Mail  Timo.Weber@mssk.de "]
[]
[]
["Ergebnisliste für Rundenwettkämpfe Sportpistole Kleinkaliber"]
[]
["Wettkämpfe werden gemäß der Sportordnung des DSB und der Rundenwettkampfordnung des MSSK durchgeführt"]
[null,{"$f":"Heim!A17","v":"."},{"$f":"Heim!B17","v":"Wettkampf"},null,null,{"$f":"Heim!B18","v":"Endtermin: "},null,{"$f":"Heim!C18","v":"00:00:00"}]
[null,"Kreisklasse:",{"$f":"Heim!#REF!","v":{"$error":"#REF!"}}]
[]
[null,"Heimmannschaft:",{"$f":"Heim!C10","v":0}]
[]
["Schütze / Schützin",null,"10erP S1","10erP S2","10erP S3","10erD S1","10erD S2","10erD S3","Gesamt-\nergebnis"]
["1.",{"$f":"Heim!B3","v":0},{"$f":"Heim!C3","v":0},{"$f":"Heim!D3","v":0},{"$f":"Heim!E3","v":0},{"$f":"Heim!F3","v":0},{"$f":"Heim!G3","v":0},{"$f":"Heim!H3","v":0},{"$f":"Heim!I3","v":0}]
["2.",{"$f":"Heim!B4","v":0},{"$f":"Heim!C4","v":0},{"$f":"Heim!D4","v":0},{"$f":"Heim!E4","v":0},{"$f":"Heim!F4","v":0},{"$f":"Heim!G4","v":0},{"$f":"Heim!H4","v":0},{"$f":"Heim!I4","v":0}]
["3.",{"$f":"Heim!B5","v":0},{"$f":"Heim!C5","v":0},{"$f":"Heim!D5","v":0},{"$f":"Heim!E5","v":0},{"$f":"Heim!F5","v":0},{"$f":"Heim!G5","v":0},{"$f":"Heim!H5","v":0},{"$f":"Heim!I5","v":0}]
[null,"Gesamtergebnis der 3 besten Schützinnen oder Schützen:",null,null,null,null,null,null,{"$f":"SUM(I19:I21)","v":0}]
[]
["4.",{"$f":"Heim!B6","v":0},{"$f":"Heim!C6","v":0},{"$f":"Heim!D6","v":0},{"$f":"Heim!E6","v":0},{"$f":"Heim!F6","v":0},{"$f":"Heim!G6","v":0},{"$f":"Heim!H6","v":0},{"$f":"Heim!I6","v":0}]
["5.",{"$f":"Heim!B7","v":0},{"$f":"Heim!C7","v":0},{"$f":"Heim!D7","v":0},{"$f":"Heim!E7","v":0},{"$f":"Heim!F7","v":0},{"$f":"Heim!G7","v":0},{"$f":"Heim!H7","v":0},{"$f":"Heim!I7","v":0}]
["6.",{"$f":"Heim!B8","v":0},{"$f":"Heim!C8","v":0},{"$f":"Heim!D8","v":0},{"$f":"Heim!E8","v":0},{"$f":"Heim!F8","v":0},{"$f":"Heim!G8","v":0},{"$f":"Heim!H8","v":0},{"$f":"Heim!I8","v":0}]
[]
[null,"Gastmannschaft:",{"$f":"Gast!C10","v":0}]
[]
["Schütze / Schützin",null,"10erP S1","10erP S2","10erP S3","10erD S1","10erD S2","10erD S3","Gesamt-\nergebnis"]
["1.",{"$f":"Gast!B3","v":0},{"$f":"Gast!C3","v":0},{"$f":"Gast!D3","v":0},{"$f":"Gast!E3","v":0},{"$f":"Gast!F3","v":0},{"$f":"Gast!G3","v":0},{"$f":"Gast!H3","v":0},{"$f":"Gast!I3","v":0}]
["2.",{"$f":"Gast!B4","v":0},{"$f":"Gast!C4","v":0},{"$f":"Gast!D4","v":0},{"$f":"Gast!E4","v":0},{"$f":"Gast!F4","v":0},{"$f":"Gast!G4","v":0},{"$f":"Gast!H4","v":0},{"$f":"Gast!I4","v":0}]
["3.",{"$f":"Gast!B5","v":0},{"$f":"Gast!C5","v":0},{"$f":"Gast!D5","v":0},{"$f":"Gast!E5","v":0},{"$f":"Gast!F5","v":0},{"$f":"Gast!G5","v":0},{"$f":"Gast!H5","v":0},{"$f":"Gast!I5","v":0}]
["Gesamtegebnis der 3 besten Schützinnen oder Schützen:",null,null,null,null,null,null,null,{"$f":"SUM(I31:I33)","v":0}]
[]
["4.",{"$f":"Gast!B6","v":0},{"$f":"Gast!C6","v":0},{"$f":"Gast!D6","v":0},{"$f":"Gast!E6","v":0},{"$f":"Gast!F6","v":0},{"$f":"Gast!G6","v":0},{"$f":"Gast!H6","v":0},{"$f":"Gast!I6","v":0}]
["5.",{"$f":"Gast!B7","v":0},{"$f":"Gast!C7","v":0},{"$f":"Gast!D7","v":0},{"$f":"Gast!E7","v":0},{"$f":"Gast!F7","v":0},{"$f":"Gast!G7","v":0},{"$f":"Gast!H7","v":0},{"$f":"Gast!I7","v":0}]
["6.",{"$f":"Gast!B8","v":0},{"$f":"Gast!C8","v":0},{"$f":"Gast!D8","v":0},{"$f":"Gast!E8","v":0},{"$f":"Gast!F8","v":0},{"$f":"Gast!G8","v":0},{"$f":"Gast!H8","v":0},{"$f":"Gast!I8","v":0}]
[]
["Datum des Wettkampftages:",null,null,"Unterschriften der Mannschaftsführer:"]
[]
[{"$f":"TODAY()","v":"2018-04-17"}]
[null,null,null,"Heimmannschaft",null,null,null,null,"Gastmannschaft"]
[]
[]
["Die Ergebnisliste muss spätestens am dritten Kalendertag nach dem Endtermin dem Rundenwettkampfleiter vorliegen."]

{"sheet":"Heim","index":1,"n_rows":18,"n_cols":9,"rows_kept":18,"cut":false,"hidden":false,"merged":[[9,2,9,8],[13,3,13,9]]}
[null,"Vorname / Name","10erP","10erP","10erP","10erD","10erD","10erD","Total"]
[]
["1.",null,null,null,null,null,null,null,{"$f":"SUM(C3:H3)","v":0}]
["2.",null,null,null,null,null,null,null,0]
["3.",null,null,null,null,null,null,null,0]
["4.",null,null,null,null,null,null,null,0]
["5.",null,null,null,null,null,null,null,0]
["6.",null,null,null,null,null,null,null,0]
[]
[null,"Heim:"]
[]
[null,"Achtung, Eingabe nur in den grün markierten Felder"]
[]
[null,null,null,"Nur in grünen Feldern schreiben !!"]
[]
[]
[".","Wettkampf"]
[null,"Endtermin: "]

{"sheet":"Gast","index":2,"n_rows":14,"n_cols":9,"rows_kept":14,"cut":false,"hidden":false,"merged":[[9,2,9,8],[13,1,13,3]]}
[null,"Vorname / Name","10erP","10erP","10erP","10erD","10erD","10erD","Total"]
[]
["1.",null,null,null,null,null,null,null,{"$f":"SUM(C3:H3)","v":0}]
["2.",null,null,null,null,null,null,null,0]
["3.",null,null,null,null,null,null,null,0]
["4.",null,null,null,null,null,null,null,0]
["5.",null,null,null,null,null,null,null,0]
["6.",null,null,null,null,null,null,null,0]
[]
[null,"Gast:"]
[]
[null,"Achtung, Eingabe nur in den grün markierten Felder"]
[]
[null,"Nur in den grünen Feldern schreiben !!"]