{"text_format":"1","workbook":"xlsx","n_sheets":3,"sheets":["Liste","Heim","Gast"],"not_rendered":{"charts":0,"images":1,"macros":1,"external_links":0,"defined_names":0,"comments":0,"pivot_tables":0},"unopened":[],"bounds":{"document_bytes":16777216,"sheet_cells":100000,"rows_first":2000,"rows_last":500,"rows_between":2000,"halvings":0,"cell_chars":16384,"cell_head_chars":4096},"cells_cut":0,"cells_raw":0,"read":"whole","date_system":"1900"}

{"sheet":"Liste","index":0,"n_rows":45,"n_cols":6,"rows_kept":45,"cut":false,"hidden":false,"merged":[[44,0,44,5],[20,1,20,4],[32,1,32,4],[40,0,40,1],[40,3,40,5],[28,0,28,1],[38,0,38,1],[38,3,38,5],[14,2,14,5],[26,2,26,5],[4,2,4,5],[2,2,2,5],[0,2,0,5],[10,0,10,5],[5,2,5,5],[8,0,8,5],[16,0,16,1]]}
[null,null,"Markgräfler Sportschützen"]
[]
[null,null,"Kreis 8 im Südbadischen Sportschützenverband e.V."]
[]
[null,null,"RWK-Leiter Konrad Berger, Adelsberg 6 · 79669 Zell i.W./Adelsberg"]
[null,null,"Tel.: 07625 -924160, eMail: Konrad.Berger@mssk.de "]
[]
[]
["Ergebnisliste für Rundenwettkämpfe Luftgewehr Auflage"]
[]
["Wettkämpfe werden gemäß der Sportordnung des DSB und der Rundenwettkampfordnung des MSSK durchgeführt"]
[null,{"$f":"Heim!A17","v":"1."},{"$f":"Heim!B17","v":"Wettkampf"},{"$f":"Heim!B18","v":"Endtermin: "},{"$f":"Heim!C18","v":"00:00:00"}]
[null,"Kreisklasse:",{"$f":"Heim!#REF!","v":{"$error":"#REF!"}}]
[]
[null,"Heimmannschaft:",{"$f":"Heim!C10","v":0}]
[]
["Schütze / Schützin",null,"10er Serie","10er Serie","10er Serie","Gesamt-\nergebnis"]
["1.",{"$f":"Heim!B3","v":0},{"$f":"Heim!C3","v":0},{"$f":"Heim!D3","v":0},{"$f":"Heim!E3","v":0},{"$f":"Heim!F3","v":0}]
["2.",{"$f":"Heim!B4","v":0},{"$f":"Heim!C4","v":0},{"$f":"Heim!D4","v":0},{"$f":"Heim!E4","v":0},{"$f":"Heim!F4","v":0}]
["3.",{"$f":"Heim!B5","v":0},{"$f":"Heim!C5","v":0},{"$f":"Heim!D5","v":0},{"$f":"Heim!E5","v":0},{"$f":"Heim!F5","v":0}]
[null,"Gesamtergebnis der 3 besten Schützinnen oder Schützen:",null,null,null,{"$f":"SUM(F18:F20)","v":0}]
[]
["4.",{"$f":"Heim!B6","v":0},{"$f":"Heim!C6","v":0},{"$f":"Heim!D6","v":0},{"$f":"Heim!E6","v":0},{"$f":"Heim!F6","v":0}]
["5.",{"$f":"Heim!B7","v":0},{"$f":"Heim!C7","v":0},{"$f":"Heim!D7","v":0},{"$f":"Heim!E7","v":0},{"$f":"Heim!F7","v":0}]
["6.",{"$f":"Heim!B8","v":0},{"$f":"Heim!C8","v":0},{"$f":"Heim!D8","v":0},{"$f":"Heim!E8","v":0},{"$f":"Heim!F8","v":0}]
[]
[null,"Gastmannschaft:",{"$f":"Gast!C10","v":0}]
[]
["Schütze / Schützin",null,"10er Serie","10er Serie","10er Serie","Gesamt-\nergebnis"]
["1.",{"$f":"Gast!B3","v":0},{"$f":"Gast!C3","v":0},{"$f":"Gast!D3","v":0},{"$f":"Gast!E3","v":0},{"$f":"Gast!F3","v":0}]
["2.",{"$f":"Gast!B4","v":0},{"$f":"Gast!C4","v":0},{"$f":"Gast!D4","v":0},{"$f":"Gast!E4","v":0},{"$f":"Gast!F4","v":0}]
["3.",{"$f":"Gast!B5","v":0},{"$f":"Gast!C5","v":0},{"$f":"Gast!D5","v":0},{"$f":"Gast!E5","v":0},{"$f":"Gast!F5","v":0}]
[null,"Gesamtegebnis der 3 besten Schützinnen oder Schützen:",null,null,null,{"$f":"SUM(F30:F32)","v":0}]
[]
["4.",{"$f":"Gast!B6","v":0},{"$f":"Gast!C6","v":0},{"$f":"Gast!D6","v":0},{"$f":"Gast!E6","v":0},{"$f":"Gast!F6","v":0}]
["5.",{"$f":"Gast!B7","v":0},{"$f":"Gast!C7","v":0},{"$f":"Gast!D7","v":0},{"$f":"Gast!E7","v":0},{"$f":"Gast!F7","v":0}]
["6.",{"$f":"Gast!B8","v":0},{"$f":"Gast!C8","v":0},{"$f":"Gast!D8","v":0},{"$f":"Gast!E8","v":0},{"$f":"Gast!F8","v":0}]
[]
["Datum des Wettkampftages:",null,null,"Unterschriften der Mannschaftsführer:"]
[]
[{"$f":"TODAY()","v":"2017-11-10"}]
[null,null,null,"Heimmannschaft",null,"Gastmannschaft"]
[]
[]
["Die Ergebnisliste muss spätestens am dritten Kalendertag nach dem Endtermin dem Rundenwettkampfleiter vorliegen."]

{"sheet":"Heim","index":1,"n_rows":18,"n_cols":6,"rows_kept":18,"cut":false,"hidden":false,"merged":[[9,2,9,5],[13,3,13,6]]}
[null,"Name","10er","10er","10er","Total"]
[]
["1.",null,null,null,null,{"$f":"SUM(C3:E3)","v":0}]
["2.",null,null,null,null,{"$f":"SUM(C4:E4)","v":0}]
["3.",null,null,null,null,{"$f":"SUM(C5:E5)","v":0}]
["4.",null,null,null,null,{"$f":"SUM(C6:E6)","v":0}]
["5.",null,null,null,null,{"$f":"SUM(C7:E7)","v":0}]
["6.",null,null,null,null,{"$f":"SUM(C8:E8)","v":0}]
[]
[null,"Heim:"]
[]
[null,"Achtung, Eingabe nur in den grün markierten Felder"]
[]
[null,null,null,"Nur in grünen Feldern schreiben !!"]
[]
[]
["1.","Wettkampf"]
[null,"Endtermin: "]

{"sheet":"Gast","index":2,"n_rows":14,"n_cols":6,"rows_kept":14,"cut":false,"hidden":false,"merged":[[9,2,9,5],[13,1,13,3]]}
[null,"Name","10er","10er","10er","Total"]
[]
["1.",null,null,null,null,{"$f":"SUM(C3:E3)","v":0}]
["2.",null,null,null,null,{"$f":"SUM(C4:E4)","v":0}]
["3.",null,null,null,null,{"$f":"SUM(C5:E5)","v":0}]
["4.",null,null,null,null,{"$f":"SUM(C6:E6)","v":0}]
["5.",null,null,null,null,{"$f":"SUM(C7:E7)","v":0}]
["6.",null,null,null,null,{"$f":"SUM(C8:E8)","v":0}]
[]
[null,"Gast:"]
[]
[null,"Achtung, Eingabe nur in den grün markierten Felder"]
[]
[null,"Nur in den grünen Feldern schreiben !!"]